BEGIN:VCALENDAR
VERSION:2.0
PRODID:Events Booking
BEGIN:VEVENT
UID:69e73874ac1a2
SUMMARY:Årsmøde 2018 - VIP 
DESCRIPTION:
 &nbsp\;
 M3 User Group inviterer i samarbejde med vores spo
 nsorer til Årsmøde 2018 på&nbsp\;Hotel Svendborg.&nbsp\;
 &nbsp\;
 &n
 bsp\; &nbsp\; 
 &nbsp\;
 &nbsp\;
 Dato:&nbsp\;13. - 14. marts 2018Under
 holdning: Thomas WarbergKeynote Speaker: Pernille Kræmmergaard (Digitalis
 eringsinstitutet)\, &nbsp\;Peg Rodarmel (Senior Vice President\, Worldwide
 \, Infor Digital Sales) og Thomas Rathsack (tidl. Jægersoldat)
 Sted:&nb
 sp\;Hotel Svendborg\, Svendborg
 &nbsp\;
 &nbsp\;
 Hovedsponsorer:
 &n
 bsp\;
 
 
 
 
 
 
 
 
 
 &nbsp\;
 Tilmeldingen er bindende. Ved
  manglende fremmøde eller ved afbestilling senere end d. 01/03-2018 betal
 es fuld pris.
 Giv venligst besked herom.Kontakt: Flemming Sørensen - fl
 s@dat-schaub.dk
 &nbsp\;
LOCATION:centrumpladsen 1
DTSTART:20180313T080000Z
DTEND:20180314T140000Z
DTSTAMP:20260421T084228Z
ORGANIZER;CN=M3 User Group Denmark:MAILTO:m3ug@m3ug.dk
GEO:55.06021;10.606315
X-APPLE-STRUCTURED-LOCATION;VALUE=URI;X-ADDRESS=centrumpladsen 1;X-APPLE-RA
 DIUS=72;X-TITLE=Hotel Svendborg:55.06021;10.606315
END:VEVENT
END:VCALENDAR