BEGIN:VCALENDAR
VERSION:2.0
PRODID:Events Booking
BEGIN:VEVENT
UID:69e4d0121d226
SUMMARY:Årsmøde 2024
DESCRIPTION:
 &nbsp\;
 
 
 
 
 &nbsp\;&nbsp\;&nbsp\;
 
 
 
 
 &n
 bsp\;
LOCATION:centrumpladsen 1
DTSTART:20240417T070000Z
DTEND:20240418T140000Z
DTSTAMP:20240206T145416Z
ORGANIZER;CN=M3 User Group Denmark:MAILTO:m3ug@m3ug.dk
GEO:55.06021;10.606315
X-APPLE-STRUCTURED-LOCATION;VALUE=URI;X-ADDRESS=centrumpladsen 1;X-APPLE-RA
 DIUS=72;X-TITLE=Hotel Svendborg:55.06021;10.606315
END:VEVENT
END:VCALENDAR