BEGIN:VCALENDAR
VERSION:2.0
PRODID:Events Booking
BEGIN:VEVENT
UID:69e76c772ed0a
SUMMARY:Buzzwords  - Online
DESCRIPTION:
 M3 User Group inviterer i samarbejde med Columbus et indlæg
  i M3 om Buzzwords.
 Mødet afholdes online i Teams.
 Kursusbeskrivelse:
 
 On Prem\, IFS\, Scripts\, Alerts og mange flere af samme slags fyger i 
 dag gennem luften Hvad betyder de i bund og grund\, og hvad bruges de til?
  Gennemgang af en række termer – om muligt – med eksempler på brugen
 
 Underviser:  Catharine Linsbauer– Columbus
 Dato:&nbsp\;  1. marts 2
 022
 Tid:&nbsp\; 14.00 - 16.00
 Sted: Mødet afholdes i Team og I modtag
 er en invitation dagen før fra Columbus.
 Pris: M3UG’s medlemmer: 200 
 kr.
 Kurset er kun for medlemmer.
 Ved afmelding senere end den 25/2 202
 2 vil virksomheden bliver faktureret 200 kr. Er man forhindret er man velk
 ommen til at sende en anden.
 Med venlig hilsen
 M3 User Group Denmark
LOCATION:Teams
DTSTART:20220301T130000Z
DTEND:20220301T150000Z
DTSTAMP:20220125T144331Z
ORGANIZER;CN=M3 User Group Denmark:MAILTO:m3ug@m3ug.dk
END:VEVENT
END:VCALENDAR