BEGIN:VCALENDAR
VERSION:2.0
PRODID:Events Booking
BEGIN:VEVENT
UID:69e737fb4cf05
SUMMARY:Eventhub under the Hood - Tips & Tricks
DESCRIPTION:Som opfølgning på temadagen d. 14. juni\, hvor vi så hvad Ev
 enthub kan bruges til\, holder vi d. 2. februar den lovede opfølgningsdag
 \, hvor vi ser på hvordan vi sætter events op i M3.
 Jeppe Cavallius fr
 a Infor vil gennemgå de forskellige muligheder\, der er i M3 og krydre de
 t med praktiske eksempler. Som noget nyt\, vil der være mulighed for at d
 eltagerne kan komme med input til M3 Events\, som vi kan bruge til udgangs
 punkt for den praktiske del.
 Input sendes til Jeppe Cavallius på mail (
 jeppe.cavallius@infor.com)
 Dagens program ser således ud: Kl. 9.00 - 9.
 30 Indflyvning\, kaffe og rundstykker samt velkomst. Kl. 9.30 - 10.30 Hvor
 dan udnytte M3 til at automatisere processer baseret på events? Overblik 
 over muligheder og værktøjer? Kl. 10.30 - 12.00 Event Hub fra en teknisk
  synsvinkel. Hvad er events? Hvad er Event Hub? Hvad består Event Hub af?
  Vi kigger på Event Analytics\, User-Defined application messages\, Log f
 ield changes\, m.m kl. 12.00 - 12.45 Frokost Kl. 12.45 - 15.00 Workshop: v
 i designer nogle events ud fra mødedeltagernes ideer til events og giver 
 dermed praktiske eksempler på\, hvad man skal tænke over og tage højde 
 for. kl. 15.00 - 15.15 Afrunding
 Af praktiske hensyn skal input til tema
 dagen være Jeppe Cavallius i hænde senest d. 20. januar\, så han kan n
 å at forberede sig. Jeppes ønske til input: En god beskrivelse af ønske
 t funktionalitet er altid en god ting (ca. en A4 side pr. event) Du vil bl
 ive kontaktett af Jeppe\, hvis der er uddybende spørgsmål\, så HUSK at 
 angive kontaktoplysninger\, når du indsender dine forslag.
 Du er velkom
 men til at tage din PC med og afprøve nogle af eksemplerne i praksis. OBS
 !! Vær dog opmærksom på at det i givet fald skal ske på dit eget (Test
 ) miljø
 Praktiske oplysninger:
 Tid: Den 2. februar 2017\, kl. 9.30-15
 .15 Opstart: kl. 09.00 med morgenbrød og kaffe Sted: Infor\, Sivlandsvæn
 get 29\, Odense Tilmeldingsfrist: 26 januar 2017Pris: M3UG's medlemmer: Gr
 atis 
 Deltagere\, som ikke er M3UG medlemmer: kr. 1.500\,- pr. person.
 
 Rejse og evt. ophold er for egen regning.
LOCATION:Sivlandsvænget 29
DTSTART:20170202T080000Z
DTEND:20170202T143000Z
DTSTAMP:20260421T084027Z
ORGANIZER;CN=M3 User Group Denmark:MAILTO:m3ug@m3ug.dk
GEO:55.352057;10.410559
X-APPLE-STRUCTURED-LOCATION;VALUE=URI;X-ADDRESS=Sivlandsvænget 29;X-APPLE-
 RADIUS=72;X-TITLE=Infor (Lawson):55.352057;10.410559
END:VEVENT
END:VCALENDAR