BEGIN:VCALENDAR
VERSION:2.0
PRODID:Events Booking
BEGIN:VEVENT
UID:69e735f09f62e
SUMMARY:Kursus i M3 Indkøb
DESCRIPTION:
 &nbsp\;
 M3 User Group inviterer i samarbejde med iStone ti
 l en kursusdag i M3 Indkøb.&nbsp\;&nbsp\;
 Kursusbeskrivelse:
 &nbsp\;
 
 Få&nbsp\;de rigtige specifikationer ud på indkøbsordren
 
 Alm vare
 tekster
 Fremmed sprog – hvordan styres det
 Hvordan får man tekstblo
 kke skrevet ud på indkøbsordren
 
 Hvordan vedligeholdes priserne enkl
 est
 
 De forskellige alternativer – fordele og ulemper
 Indkøbsafta
 ler i detaljer – vigtige styringselementer
 Regulering af priser på in
 dkøbsaftaler og hvordan masseopdaterer man aftaler
 
 Indkøbspris kalk
 uler
 
 Hvordan virker kostpriskalkuler&nbsp\;
 Forskellige tillæg/fra
 drag
 Kostpris beregning
 Forskel på kostprismetoder
 
 Leveringstide
 n på en vare
 
 Del-elementerne
 Hvor vedligeholdes de?
 Hvordan mass
 eændrer man?
 Leverandør leveringskalender og effekten af denne.
 
 F
 ind de mest effektive ordrepolitikker til at få systemet til at beregne k
 orrekt indkøb
 
 Min-max ordrestørrelse
 Faste bestillingsdage/-tidsp
 unkter
 Faste leveringsdage - leverandør
 Datostyret sikkerhedslager 
 – manuelt angivet
 
 Reklamationsmodulet - får i det bedste ud af det
 ?&nbsp\;
 
 Kilder for registrering/oprettelse
 Flows
 Returnering af 
 materialer mm.
 Kan man fakturamatche på valg af ’Kreditnota’
 
 &
 nbsp\;
 Dato:&nbsp\;24. januar 2018Underviser: Lene Nissen fra iStoneSted
 :&nbsp\;iStone\, Nyvang 16\, Middelfart
 Pris:M3UG’s medlemmer: 600 kr.
 Rejse og evt. ophold er for egen regning.
 Ved afmelding senere end den 1
 9/01 2018 vil virksomheden bliver faktureret 1200 kr. Er man forhindret er
  man velkommen til at sende en anden.
 Kurset er kun for medlemmer. MAKS 
 4 personer fra hver medlemsvirksomhed (medmindre kurset ikke er fyldt). Re
 gistreringsbekræftigelse skal kunne fremvises på dagen.&nbsp\;
LOCATION:Nyvang 16
DTSTART:20180124T080000Z
DTEND:20180124T150000Z
DTSTAMP:20260421T083144Z
ORGANIZER;CN=M3 User Group Denmark:MAILTO:m3ug@m3ug.dk
GEO:55.507337;9.764578
X-APPLE-STRUCTURED-LOCATION;VALUE=URI;X-ADDRESS=Nyvang 16;X-APPLE-RADIUS=72
 ;X-TITLE=Columbus:55.507337;9.764578
END:VEVENT
END:VCALENDAR