BEGIN:VCALENDAR
VERSION:2.0
PRODID:Events Booking
BEGIN:VEVENT
UID:69e7379c110d4
SUMMARY:M3UG BI-dag 
DESCRIPTION:Langt de fleste virksomheder har i dag behov for at samle data 
 fra flere systemer for at få et samlet overblik over virksomhedens situat
 ion. Den udfordring kan løses med Business Intelligence. Ardo har valgt a
 t basere deres Business Intelligence på TimeXtender Data Warehouse Automa
 tion (DWA) platform som back-end og Microsoft Reporting Services\, som fro
 nt-end. Der vil på temadagen være mulighed for\, at høre Ardo&rsquo\;s 
 CIO\, Kristian Bonde\, fortælle\, hvorfor de har valgt den løsning &ndas
 h\; og se ham lave en live demo på deres egne tal.
DTSTART:20151118T083000Z
DTEND:20151118T144500Z
DTSTAMP:20260421T083852Z
ORGANIZER;CN=M3 User Group Denmark:MAILTO:m3ug@m3ug.dk
END:VEVENT
END:VCALENDAR