BEGIN:VCALENDAR
VERSION:2.0
PRODID:Events Booking
BEGIN:VEVENT
UID:69e732c83f90d
SUMMARY:EKSTRA - MRP Uddannelsesdag 30/11-2016
DESCRIPTION:
 Grundet overvældende interesse og mange på&nbsp\;ventelist
 e\, har vi valgt at gennemføre en ekstra&nbsp\;uddannelsesdag 30/11 -2016
 .&nbsp\;
 M3 User Group inviterer i samarbejde med iStone til en kursusda
 g i MRP i M3
 Dagsorden:
 
 Generelt omkring planlægning
 Forecasting
 
 Sikkerhedslager
 Ordrepolitikker
 MRP simulering
 
 Kurset gennemf
 øres med udgangspunkt i version 13.3.
 Underviser:&nbsp\;Jan Pedersen fr
 a iStone
 Pris:
 M3UG´s medlemmer 500 kr.
 Rejse og evt. ophold er for
  egen regning.
 Ved afmelding senere end den 25. november 2016 vil virkso
 mheden blive faktureret 1000 kr. Er man forhindret er man velkommen til at
  sende en anden fra virksomheden.
 Kurset er kun for medlemmer.
 Der ska
 l være 12 tilmeldte for at kurset bliver afholdt.
 Sted: iStone - Middel
 fart
LOCATION:Nyvang 16
DTSTART:20161130T073000Z
DTEND:20161130T150000Z
DTSTAMP:20260421T081816Z
ORGANIZER;CN=M3 User Group Denmark:MAILTO:m3ug@m3ug.dk
GEO:55.507337;9.764578
X-APPLE-STRUCTURED-LOCATION;VALUE=URI;X-ADDRESS=Nyvang 16;X-APPLE-RADIUS=72
 ;X-TITLE=Columbus:55.507337;9.764578
END:VEVENT
END:VCALENDAR