BEGIN:VCALENDAR
VERSION:2.0
PRODID:Events Booking
BEGIN:VEVENT
UID:69e732c426aa6
SUMMARY:Smartere Smart Office - februar 2014
DESCRIPTION:Smartere Smart Office - ekstra workshop i februar 2014!
 Da f
 ørste workshop i efteråret blev \"udsolgt\" på mindre end en uge\, afho
 lder M3 User Group i samarbejde med Infor en ekstra workshop omkring optim
 ering af brugen af Smart Office.&nbsp\;Arrangementet afholdes enten d. 5. 
 februar eller d. 27. februar.Kl. 9.30 til ca. 15.30 hos Infor\, Sivlandsv
 ænget 27\, 5260 Odense.&nbsp\;Du angiver ved tilmeldingen hvilke af de 2 
 datoer du gerne vil deltage - eller om du kan begge dage.
 På workshoppe
 n vil der vil blive gennemgang af hvordan man kan customisere Smart Office
  samt brug af værktøjerne Mashup og Infor Enterprise Search\, så man ka
 n effektivisere nogle af de daglige rutiner.&nbsp\;
 
LOCATION:Sivlandsvænget 29
DTSTART:20140227T083000Z
DTEND:20140227T143000Z
DTSTAMP:20260421T081812Z
ORGANIZER;CN=M3 User Group Denmark:MAILTO:m3ug@m3ug.dk
GEO:55.352057;10.410559
X-APPLE-STRUCTURED-LOCATION;VALUE=URI;X-ADDRESS=Sivlandsvænget 29;X-APPLE-
 RADIUS=72;X-TITLE=Infor (Lawson):55.352057;10.410559
END:VEVENT
END:VCALENDAR