BEGIN:VCALENDAR
VERSION:2.0
PRODID:Events Booking
BEGIN:VEVENT
UID:69e7369197b8e
SUMMARY:Udgående Logistik og Fragt omkostnings modulet
DESCRIPTION:
 M3 User Group inviterer i samarbejde med Columbus til en kur
 susdag og dialog omkring Udgående Logistik og Fragt omkostningsmodulet i 
 M3
 Mødet afholdes online i Teams.
 Kurset omfatter:
 
 Gennemgang af
  Fragt omkostningsmodulet
 Åben dialog omkrig behov/muligheder for udnyt
 telse af M3 til fragt afregning
 
 Underviser:  Catharine Linsbauer/Mart
 in Skaarup fra Columbus
 Tid:&nbsp\; 24. marts 2021 kl. 9.00 - 12.00
 St
 ed: Mødet afholdes i Team og I modtager en invitation dagen før fra Colu
 mbus.
 Pris: M3UG’s medlemmer: 375 kr.
 Kurset er kun for medlemmer.

  Ved afmelding senere end den 20. marts 2021 vil virksomheden bliver faktu
 reret 750 kr. Er man forhindret er man velkommen til at sende en anden.
 
 Med venlig hilsen
 M3 User Group Denmark
LOCATION:Teams
DTSTART:20210324T080000Z
DTEND:20210324T110000Z
DTSTAMP:20260421T083425Z
ORGANIZER;CN=M3 User Group Denmark:MAILTO:m3ug@m3ug.dk
END:VEVENT
END:VCALENDAR