BEGIN:VCALENDAR
VERSION:2.0
PRODID:Events Booking
BEGIN:VEVENT
UID:69e735bd33267
SUMMARY:Udnytter du dine data optimalt?
DESCRIPTION:
 &nbsp\;
 M3 User Group DK inviterer til temadag d. 19. apri
 l i samarbejde med Infor og fmcg solutions.&nbsp\;
 
 Har du brug for at
  få bedre styr på dine data?&nbsp\;
 Eller en platform til bedre at udn
 ytte dine data i flere sammenhænge?&nbsp\;
 
 Så har du sikkert brug f
 or PIM!&nbsp\;Eller rettere et Product Information Management system.&nbsp
 \;
 På denne M3 User Group temadag\, har du mulighed for at få uddybet 
 hvad PIM er for en størrelse\, og hvad det kan bruges til.
 Sæt dagen a
 f og bliv klogere på\, hvad fmcg solutions og Infor kan gøre for dig. M
 ød eller opbyg dit netværk og lær hvordan du kan PIMpe dine data.
 Tid
 :&nbsp\;Den 19. april 2016Sted:&nbsp\;Sivlandsvænget 29\, 5260 Odense S.
 
 Frist for tilmelding:&nbsp\;17. april 2016
 Vi glæder os til at se dig
 .&nbsp\;
LOCATION:Sivlandsvænget 29
DTSTART:20160419T070000Z
DTEND:20160419T130000Z
DTSTAMP:20260421T083053Z
ORGANIZER;CN=M3 User Group Denmark:MAILTO:m3ug@m3ug.dk
GEO:55.352057;10.410559
X-APPLE-STRUCTURED-LOCATION;VALUE=URI;X-ADDRESS=Sivlandsvænget 29;X-APPLE-
 RADIUS=72;X-TITLE=Infor (Lawson):55.352057;10.410559
END:VEVENT
END:VCALENDAR