BEGIN:VCALENDAR
VERSION:2.0
PRODID:Events Booking
BEGIN:VEVENT
UID:69e737d3e84f0
SUMMARY:Webinar: Bogføringsloven og SAF-T rapportering CLOUD
DESCRIPTION:M3UG har i samarbejde med Columbus sammensat et webinar til vor
 es medlemmer\, hvor I kan få en kort gennemgang af\, hvordan man opsætte
 r formatet til den nye SAF-T rapport i M3.BEMÆRK: Det er VIGTIGT\, at I f
 ør webinaret har installeret de sidste MCP Pakker (op til Pakke nr. 28 og
  29)\, som indeholder rettelserne til den nye bogføringslov. Ellers vil I
  ikke have adgang til de nye programmer\, som skal bruges til SAF-T rappor
 terne.
 &nbsp\;
 Dette webinar\, som foregår tirsdag den 21. januar klo
 kken 15.00-16.00\, henvender sig til cloud-kunder.&nbsp\;Er du on-prem kun
 de\, kan du tilmelde dig webinaret\, der foregår tirsdag den 21. januar k
 lokken 13.00-14.00 (find det under Aktiviteter).
 &nbsp\;
 Tilmeld dig w
 ebinaret og modtag en Teams-invitation til webinaret efter tilmeldingens u
 dløb. Tilmeldingen udløber 17. januar klokken 12.00.
 &nbsp\;
 Tidspun
 kt:&nbsp\;Den 21. januar klokken 15.00-16.00
 Pris:&nbsp\;Deltagelse i we
 binaret er gratis
 Sprog:&nbsp\;Dansk
 Henvendt til: Cloud-kunder
LOCATION:Teams
DTSTART:20250121T140000Z
DTEND:20250121T150000Z
DTSTAMP:20241216T064310Z
ORGANIZER;CN=M3 User Group Denmark:MAILTO:m3ug@m3ug.dk
END:VEVENT
END:VCALENDAR